BEGIN:VCALENDAR
VERSION:2.0
PRODID:-//VisitBeloeil - ECPv5.16.3.1//NONSGML v1.0//EN
CALSCALE:GREGORIAN
METHOD:PUBLISH
X-WR-CALNAME:VisitBeloeil
X-ORIGINAL-URL:https://visitbeloeil.be
X-WR-CALDESC:Events for VisitBeloeil
REFRESH-INTERVAL;VALUE=DURATION:PT1H
X-Robots-Tag:noindex
X-PUBLISHED-TTL:PT1H
BEGIN:VTIMEZONE
TZID:Europe/Brussels
BEGIN:DAYLIGHT
TZOFFSETFROM:+0100
TZOFFSETTO:+0200
TZNAME:CEST
DTSTART:20250330T010000
END:DAYLIGHT
BEGIN:STANDARD
TZOFFSETFROM:+0200
TZOFFSETTO:+0100
TZNAME:CET
DTSTART:20251026T010000
END:STANDARD
END:VTIMEZONE
BEGIN:VEVENT
DTSTART;TZID=Europe/Brussels:20250905T080000
DTEND;TZID=Europe/Brussels:20250907T230000
DTSTAMP:20260419T140621
CREATED:20250827T142204Z
LAST-MODIFIED:20250827T142204Z
UID:7617-1757059200-1757286000@visitbeloeil.be
SUMMARY:Ducasse de Beloeil
DESCRIPTION:
URL:https://visitbeloeil.be/evenement/ducasse-de-beloeil/
LOCATION:Beloeil
ATTACH;FMTTYPE=image/jpeg:https://visitbeloeil.be/wp-content/uploads/2025/08/ducassebeloeil2025-agend.jpg
END:VEVENT
BEGIN:VEVENT
DTSTART;TZID=Europe/Brussels:20250907T080000
DTEND;TZID=Europe/Brussels:20250907T123000
DTSTAMP:20260419T140621
CREATED:20250408T143918Z
LAST-MODIFIED:20250408T143918Z
UID:7404-1757232000-1757248200@visitbeloeil.be
SUMMARY:11 ÈME BALADE DE DIÔLE EN DIÔLE
DESCRIPTION:AU DÉPART DE LA BRASSERIE DES CARRIÈRES (RUE DE CONDÉ 62\, 7971 BASÈCLES)\n\n\n\n\nOrganisée par les Amis de la Nature de Basècles \nLe dimanche 07 septembre 2025 de 07h30 à 12h00 \nAu programme : Marche de 5 km ou de 10 km fléché Participation 1€ \nCafé de bienvenue \nAu retour\, un galopin de Diôle offert \nInscription le jour de la marche \nRenseignements : 069/56.12.94 amisdelanaturebasecles@hotmail.com \nLa société est assurée en responsabilité civile\, la société décline toute responsabilité en cas d’accident \n\n\n\n\n 
URL:https://visitbeloeil.be/evenement/11-eme-balade-de-diole-en-diole/
LOCATION:Brasserie des Carrières\, rue de Condé\, 62\, Basècles\, Hainaut\, 7971
ATTACH;FMTTYPE=image/jpeg:https://visitbeloeil.be/wp-content/uploads/2023/02/les-amis-de-la-nature.jpg
ORGANIZER;CN="Les%20Amis%20de%20la%20Nature":MAILTO:amisdelanaturebasecles@hotmail.com
END:VEVENT
END:VCALENDAR